BEGIN:VCALENDAR
VERSION:2.0
PRODID:-//youreventpics.de//NONSGML kigkonsult.se iCalcreator 2.30.10//
CALSCALE:GREGORIAN
METHOD:PUBLISH
UID:2d907977-3827-4efe-b8b1-90b24249cd98
X-WR-CALNAME:iCagenda
X-WR-CALDESC:Event Management Extension for Joomla!
X-WR-RELCALID:3E26604A-50F4-4449-8B3E-E4F4932D05B5
X-WR-TIMEZONE:UTC
BEGIN:VTIMEZONE
TZID:UTC
END:VTIMEZONE
BEGIN:VEVENT
UID:3ae9075b-8ba0-4519-bce8-c29922089f74
DTSTAMP:20260425T120611Z
CATEGORIES:Discotheken\, Clubs\, Bars
CLASS:PUBLIC
DESCRIPTION:
DTSTART:20250118T193000Z
DTEND:20250118T235900Z
GEO:+48.206783;+11.321197
LOCATION:Dahoam\, Toni-März-Straße 25\, 82140 Olching
ORGANIZER:
SEQUENCE:1
SUMMARY:Chestnut Tree
TRANSP:OPAQUE
URL:https://youreventpics.de/component/icagenda/83-chestnut-tree/2025-01-18
 -19-30
END:VEVENT
END:VCALENDAR
