BEGIN:VCALENDAR
VERSION:2.0
PRODID:-//youreventpics.de//NONSGML kigkonsult.se iCalcreator 2.30.10//
CALSCALE:GREGORIAN
METHOD:PUBLISH
UID:0fba1d1c-7322-46dc-b713-4c8a1d1126a2
X-WR-CALNAME:iCagenda
X-WR-CALDESC:Event Management Extension for Joomla!
X-WR-RELCALID:3E26604A-50F4-4449-8B3E-E4F4932D05B5
X-WR-TIMEZONE:UTC
BEGIN:VTIMEZONE
TZID:UTC
END:VTIMEZONE
BEGIN:VEVENT
UID:616e10cb-0334-47f6-a0d3-cdcb5304c818
DTSTAMP:20260424T101906Z
CATEGORIES:Konzerte und Festivals
CLASS:PUBLIC
DESCRIPTION;ALTREP="CID:<FFFF__=0ABBE548DFE235B58f9e8a93d@coffeebean.com>":
 Einlass ab 18:00 Uhr mit Essensmöglichkeit\nPARTYROCKNROLLER\nSeit fast vi
 erzig Jahren die Kultband in der Livemusik-Szene und auf allen Bühnen und 
 Festen zu Hause!\nMit einem riesigen Repertoire und einem einzigartigen Mi
 x aus Rock ‘n‘ Roll und Partysound wird jede Veranstaltung zum Erfolg!\nEg
 al ob Oktoberfest\, Bierzelt\, Galaball\, Stadtfest\, Clubkonzert\, Boogie
  Woogie Abend oder privater Anlass – mit den Cagey Strings geht die Post a
 b!\nFeiert\, tanzt und lacht mit uns – wir freuen uns auf euch!\nLet’s PAR
 TYROCKNROLL!\nBitte beachten: An der Abendkasse nur Barzahlung möglich!\nB
 eginn: 20:00 Uhr\n\n&nbsp\;\nBild- und Textquelle: ALLACHER SCHIEßSTÄTTE
DTSTART:20241220T200000Z
DTEND:20241220T235900Z
GEO:+48.195496;+11.45609
LOCATION:Gasthaus zur Schießstätte\, Servetstraße 1\, 80999 München
ORGANIZER;CN=:info@allacher-schiessstaette.de
SEQUENCE:1
SUMMARY:ALLACH - ALLACHER SCHIEßSTÄTTE - CAGEY STRINGS
TRANSP:OPAQUE
URL:https://youreventpics.de/component/icagenda/128-allach-allacher-schiess
 staette-cagey-strings/2024-12-20-20-00
END:VEVENT
END:VCALENDAR
